BEGIN:VCALENDAR
VERSION:2.0
PRODID:-//OnPoint Entertainment - ECPv6.2.2//NONSGML v1.0//EN
CALSCALE:GREGORIAN
METHOD:PUBLISH
X-WR-CALNAME:OnPoint Entertainment
X-ORIGINAL-URL:https://onpointband.com/zh
X-WR-CALDESC:Events for OnPoint Entertainment
REFRESH-INTERVAL;VALUE=DURATION:PT1H
X-Robots-Tag:noindex
X-PUBLISHED-TTL:PT1H
BEGIN:VTIMEZONE
TZID:Asia/Hong_Kong
BEGIN:STANDARD
TZOFFSETFROM:+0800
TZOFFSETTO:+0800
TZNAME:HKT
DTSTART:20250101T000000
END:STANDARD
END:VTIMEZONE
BEGIN:VEVENT
DTSTART;TZID=Asia/Hong_Kong:20250111T203000
DTEND;TZID=Asia/Hong_Kong:20250112T000000
DTSTAMP:20260420T103747
CREATED:20250113T070803Z
LAST-MODIFIED:20250113T070803Z
UID:10000148-1736627400-1736640000@onpointband.com
SUMMARY:Trilogy
DESCRIPTION:Experience an extraordinary evening of live music as OnPoint takes the stage at Trilogy. This talented and dynamic ensemble is set to deliver a captivating performance that will ignite your senses and leave you craving for more. With their impeccable musicianship\, infectious energy\, and a diverse repertoire spanning genres\, OnPoint promises to create an unforgettable musical journey. Get ready to be swept away by their seamless harmonies\, electrifying solos\, and a stage presence that commands attention. Join us at Trilogy for an exhilarating night of live music that will leave you spellbound and craving an encore.
URL:https://onpointband.com/zh/event/trilogy-2/
LOCATION:Trilogy\, 26F\, 45 Pottinger St.\, Central
CATEGORIES:Trio
ATTACH;FMTTYPE=image/webp:https://onpointband.com/wp-content/uploads/2024/04/DSC06380.webp
END:VEVENT
BEGIN:VEVENT
DTSTART;TZID=Asia/Hong_Kong:20250115T180000
DTEND;TZID=Asia/Hong_Kong:20250115T230000
DTSTAMP:20260420T103747
CREATED:20250113T070245Z
LAST-MODIFIED:20250113T070245Z
UID:10000146-1736964000-1736982000@onpointband.com
SUMMARY:Happy Wednesday @ Happy Valley
DESCRIPTION:Get ready to groove and let loose as OnPoint takes the stage at Happy Wednesday @ Happy Valley. This highly acclaimed live music act is set to fill the air with infectious rhythms and electrifying beats\, creating an atmosphere of pure joy and excitement. With their eclectic repertoire spanning chart-topping hits\, classic favourites\, and irresistible dance tunes\, OnPoint will have you moving and grooving all night long. Whether you’re a seasoned dancer or simply looking to unwind and enjoy great music\, Happy Wednesday @ Happy Valley is the place to be. Join us for an unforgettable evening of live music that will make your midweek truly extraordinary.
URL:https://onpointband.com/zh/event/happy-wednesday-happy-valley-2/
LOCATION:Happy Valley Racecourse Beer Garden\, Beer Garden\, Forecourt Happy Valley Racecourse\, Wong Nai Chung Rd\, Happy Valley\, Hong Kong\, Hong Kong Island\, 999077\, Hong Kong
CATEGORIES:Full band
ATTACH;FMTTYPE=image/jpeg:https://onpointband.com/wp-content/uploads/2023/07/F2DA3A26-A690-4F6D-8A25-08BBFF304510.jpg
END:VEVENT
BEGIN:VEVENT
DTSTART;VALUE=DATE:20250117
DTEND;VALUE=DATE:20250118
DTSTAMP:20260420T103747
CREATED:20250120T061302Z
LAST-MODIFIED:20250120T061302Z
UID:10000154-1737072000-1737158399@onpointband.com
SUMMARY:Ritz Carlton Lounge 102nd Floor
DESCRIPTION:Set on floors 102 to 118 of the International Commerce Centre\, this luxury hotel is 2 km from the Avenue of Stars waterfront promenade and 31 km from Hong Kong International Airport.\nSophisticated rooms and suites feature free Wi-Fi\, flat-screen TVs and iPhone docks\, as well as Nespresso machines\, minibars\, and views of Victoria Harbour and/or the city skyline. Club level quarters provide complimentary snacks and drinks. Suites add living rooms\, butler service and whirlpool tubs.\nThere are 3 refined restaurants\, 2 bars (1 on the top floor) and a caviar bar. Other amenities include a spa with a gym and an indoor pool\, plus a lavish ballroom.
URL:https://onpointband.com/zh/event/ritz-carlton-lounge-102nd-floor/
LOCATION:OZONE\, International Commerce Centre (ICC)\, 118/F\, The Ritz-Carlton\, Hong Kong\, 1 Austin Rd W\, Tsim Sha Tsui\, Hong Kong\, Hong Kong
ATTACH;FMTTYPE=image/jpeg:https://onpointband.com/wp-content/uploads/2024/04/2024-02-29.jpg
GEO:22.303626881681;114.16014358211
X-APPLE-STRUCTURED-LOCATION;VALUE=URI;X-ADDRESS=OZONE International Commerce Centre (ICC) 118/F The Ritz-Carlton Hong Kong 1 Austin Rd W Tsim Sha Tsui Hong Kong Hong Kong;X-APPLE-RADIUS=500;X-TITLE=International Commerce Centre (ICC)\, 118/F\, The Ritz-Carlton\, Hong Kong\, 1 Austin Rd W\, Tsim Sha Tsui:geo:114.16014358211,22.303626881681
END:VEVENT
END:VCALENDAR