BEGIN:VCALENDAR
VERSION:2.0
PRODID:-//OnPoint Entertainment - ECPv6.2.2//NONSGML v1.0//EN
CALSCALE:GREGORIAN
METHOD:PUBLISH
X-WR-CALNAME:OnPoint Entertainment
X-ORIGINAL-URL:https://onpointband.com/zh
X-WR-CALDESC:Events for OnPoint Entertainment
REFRESH-INTERVAL;VALUE=DURATION:PT1H
X-Robots-Tag:noindex
X-PUBLISHED-TTL:PT1H
BEGIN:VTIMEZONE
TZID:Asia/Hong_Kong
BEGIN:STANDARD
TZOFFSETFROM:+0800
TZOFFSETTO:+0800
TZNAME:HKT
DTSTART:20250101T000000
END:STANDARD
END:VTIMEZONE
BEGIN:VEVENT
DTSTART;TZID=Asia/Hong_Kong:20250122T210000
DTEND;TZID=Asia/Hong_Kong:20250122T233000
DTSTAMP:20260415T095133
CREATED:20250113T075111Z
LAST-MODIFIED:20250113T075111Z
UID:10000150-1737579600-1737588600@onpointband.com
SUMMARY:OZONE (Ritz-Carlton)
DESCRIPTION:Set on floors 102 to 118 of the International Commerce Centre\, this luxury hotel is 2 km from the Avenue of Stars waterfront promenade and 31 km from Hong Kong International Airport.\nSophisticated rooms and suites feature free Wi-Fi\, flat-screen TVs and iPhone docks\, as well as Nespresso machines\, minibars\, and views of Victoria Harbour and/or the city skyline. Club level quarters provide complimentary snacks and drinks. Suites add living rooms\, butler service and whirlpool tubs.\nThere are 3 refined restaurants\, 2 bars (1 on the top floor) and a caviar bar. Other amenities include a spa with a gym and an indoor pool\, plus a lavish ballroom.
URL:https://onpointband.com/zh/event/ozone-ritz-carlton/
LOCATION:OZONE\, International Commerce Centre (ICC)\, 118/F\, The Ritz-Carlton\, Hong Kong\, 1 Austin Rd W\, Tsim Sha Tsui\, Hong Kong\, Hong Kong
ATTACH;FMTTYPE=image/jpeg:https://onpointband.com/wp-content/uploads/2024/04/2024-02-29.jpg
GEO:22.303626881681;114.16014358211
X-APPLE-STRUCTURED-LOCATION;VALUE=URI;X-ADDRESS=OZONE International Commerce Centre (ICC) 118/F The Ritz-Carlton Hong Kong 1 Austin Rd W Tsim Sha Tsui Hong Kong Hong Kong;X-APPLE-RADIUS=500;X-TITLE=International Commerce Centre (ICC)\, 118/F\, The Ritz-Carlton\, Hong Kong\, 1 Austin Rd W\, Tsim Sha Tsui:geo:114.16014358211,22.303626881681
END:VEVENT
END:VCALENDAR