BEGIN:VCALENDAR
VERSION:2.0
PRODID:-//OnPoint Entertainment - ECPv6.2.2//NONSGML v1.0//EN
CALSCALE:GREGORIAN
METHOD:PUBLISH
X-WR-CALNAME:OnPoint Entertainment
X-ORIGINAL-URL:https://onpointband.com
X-WR-CALDESC:Events for OnPoint Entertainment
REFRESH-INTERVAL;VALUE=DURATION:PT1H
X-Robots-Tag:noindex
X-PUBLISHED-TTL:PT1H
BEGIN:VTIMEZONE
TZID:Asia/Hong_Kong
BEGIN:STANDARD
TZOFFSETFROM:+0800
TZOFFSETTO:+0800
TZNAME:HKT
DTSTART:20250101T000000
END:STANDARD
END:VTIMEZONE
BEGIN:VEVENT
DTSTART;TZID=Asia/Hong_Kong:20250227T190000
DTEND;TZID=Asia/Hong_Kong:20250227T200000
DTSTAMP:20260415T082431
CREATED:20250120T063420Z
LAST-MODIFIED:20250120T063617Z
UID:10000166-1740682800-1740686400@onpointband.com
SUMMARY:Base Hall
DESCRIPTION:
URL:https://onpointband.com/event/base-hall/
LOCATION:BaseHall\, LG/F\, Jardine House\, 1 Connaught Pl\, Central\, Hong Kong\, Hong Kong\, Hong Kong
ATTACH;FMTTYPE=image/jpeg:https://onpointband.com/wp-content/uploads/2025/01/thumbnail.jpg
GEO:22.283044157235;114.15925207116
X-APPLE-STRUCTURED-LOCATION;VALUE=URI;X-ADDRESS=BaseHall LG/F Jardine House 1 Connaught Pl Central Hong Kong Hong Kong Hong Kong;X-APPLE-RADIUS=500;X-TITLE=LG/F\, Jardine House\, 1 Connaught Pl\, Central\, Hong Kong:geo:114.15925207116,22.283044157235
END:VEVENT
END:VCALENDAR